Package: GEOfastq Version: 1.15.0 Command: /Library/Frameworks/R.framework/Resources/bin/R CMD INSTALL GEOfastq StartedAt: 2025-02-09 15:03:54 -0500 (Sun, 09 Feb 2025) EndedAt: 2025-02-09 15:03:56 -0500 (Sun, 09 Feb 2025) EllapsedTime: 1.7 seconds RetCode: 0 Status: OK