Package: GEOfastq Version: 1.15.0 Command: /home/biocbuild/R/R/bin/R CMD INSTALL GEOfastq StartedAt: 2025-01-29 19:36:32 -0000 (Wed, 29 Jan 2025) EndedAt: 2025-01-29 19:37:01 -0000 (Wed, 29 Jan 2025) EllapsedTime: 29.2 seconds RetCode: 0 Status: OK