Package: GEOfastq Version: 1.15.0 Command: /Library/Frameworks/R.framework/Resources/bin/R CMD check --install=check:GEOfastq.install-out.txt --library=/Library/Frameworks/R.framework/Resources/library --no-vignettes --timings GEOfastq_1.15.0.tar.gz StartedAt: 2025-02-04 20:43:57 -0500 (Tue, 04 Feb 2025) EndedAt: 2025-02-04 20:44:41 -0500 (Tue, 04 Feb 2025) EllapsedTime: 43.4 seconds RetCode: 0 Status: OK CheckDir: GEOfastq.Rcheck Warnings: 0