Package: GEOfastq Version: 1.15.0 Command: /home/biocbuild/bbs-3.21-bioc/R/bin/R CMD build --keep-empty-dirs --no-resave-data GEOfastq StartedAt: 2025-02-09 17:23:51 -0500 (Sun, 09 Feb 2025) EndedAt: 2025-02-09 17:24:05 -0500 (Sun, 09 Feb 2025) EllapsedTime: 14.0 seconds RetCode: 0 Status: OK PackageFile: GEOfastq_1.15.0.tar.gz PackageFileSize: 13.3 KiB