Package: GEOfastq Version: 1.15.0 Command: /home/biocbuild/bbs-3.21-bioc/R/bin/R CMD check --install=check:GEOfastq.install-out.txt --library=/home/biocbuild/bbs-3.21-bioc/R/site-library --timings GEOfastq_1.15.0.tar.gz StartedAt: 2025-02-09 22:41:25 -0500 (Sun, 09 Feb 2025) EndedAt: 2025-02-09 22:42:09 -0500 (Sun, 09 Feb 2025) EllapsedTime: 44.0 seconds RetCode: 0 Status: OK CheckDir: GEOfastq.Rcheck Warnings: 0