Package: GEOfastq Version: 1.15.0 Command: rm -rf GEOfastq.buildbin-libdir && mkdir GEOfastq.buildbin-libdir && E:\biocbuild\bbs-3.21-bioc\R\bin\R.exe CMD INSTALL --build --library=GEOfastq.buildbin-libdir GEOfastq_1.15.0.tar.gz StartedAt: 2025-02-10 07:50:18 -0500 (Mon, 10 Feb 2025) EndedAt: 2025-02-10 07:50:22 -0500 (Mon, 10 Feb 2025) EllapsedTime: 4.3 seconds RetCode: 0 Status: OK PackageFile: GEOfastq_1.15.0.zip PackageFileSize: 41.5 KiB