Package: GEOfastq Version: 1.15.0 Command: chmod a+r GEOfastq -R && E:\biocbuild\bbs-3.21-bioc\R\bin\R.exe CMD build --keep-empty-dirs --no-resave-data GEOfastq StartedAt: 2025-02-09 18:56:20 -0500 (Sun, 09 Feb 2025) EndedAt: 2025-02-09 18:56:32 -0500 (Sun, 09 Feb 2025) EllapsedTime: 11.8 seconds RetCode: 0 Status: OK PackageFile: GEOfastq_1.15.0.tar.gz PackageFileSize: 13.47 KiB