Package: GEOmetadb Version: 1.69.2 Command: /Library/Frameworks/R.framework/Resources/bin/R CMD INSTALL GEOmetadb StartedAt: 2025-02-09 15:07:02 -0500 (Sun, 09 Feb 2025) EndedAt: 2025-02-09 15:07:04 -0500 (Sun, 09 Feb 2025) EllapsedTime: 2.0 seconds RetCode: 0 Status: OK