Package: GEOmetadb Version: 1.69.2 Command: /home/biocbuild/R/R/bin/R CMD check --install=check:GEOmetadb.install-out.txt --library=/home/biocbuild/R/R/site-library --no-vignettes --timings GEOmetadb_1.69.2.tar.gz StartedAt: 2025-01-28 11:01:11 -0000 (Tue, 28 Jan 2025) EndedAt: 2025-01-28 11:02:53 -0000 (Tue, 28 Jan 2025) EllapsedTime: 102.1 seconds RetCode: 1 Status: ERROR CheckDir: GEOmetadb.Rcheck Warnings: NA