Package: GEOmetadb Version: 1.69.2 Command: /Library/Frameworks/R.framework/Resources/bin/R CMD check --install=check:GEOmetadb.install-out.txt --library=/Library/Frameworks/R.framework/Resources/library --no-vignettes --timings GEOmetadb_1.69.2.tar.gz StartedAt: 2025-02-09 20:57:57 -0500 (Sun, 09 Feb 2025) EndedAt: 2025-02-09 20:58:42 -0500 (Sun, 09 Feb 2025) EllapsedTime: 45.7 seconds RetCode: 0 Status: WARNINGS CheckDir: GEOmetadb.Rcheck Warnings: 1