Package: GEOmetadb Version: 1.69.2 Command: /Library/Frameworks/R.framework/Resources/bin/R CMD INSTALL GEOmetadb StartedAt: 2025-02-04 15:12:30 -0500 (Tue, 04 Feb 2025) EndedAt: 2025-02-04 15:12:35 -0500 (Tue, 04 Feb 2025) EllapsedTime: 5.2 seconds RetCode: 0 Status: OK