Package: GEOmetadb Version: 1.69.2 Command: /home/biocbuild/bbs-3.21-bioc/R/bin/R CMD build --keep-empty-dirs --no-resave-data GEOmetadb StartedAt: 2025-02-12 17:20:48 -0500 (Wed, 12 Feb 2025) EndedAt: 2025-02-12 17:21:08 -0500 (Wed, 12 Feb 2025) EllapsedTime: 20.0 seconds RetCode: 0 Status: OK PackageFile: GEOmetadb_1.69.2.tar.gz PackageFileSize: 636.2 KiB