Package: GEOmetadb Version: 1.69.2 Command: /home/biocbuild/bbs-3.21-bioc/R/bin/R CMD INSTALL GEOmetadb StartedAt: 2025-02-09 15:04:55 -0500 (Sun, 09 Feb 2025) EndedAt: 2025-02-09 15:05:05 -0500 (Sun, 09 Feb 2025) EllapsedTime: 10.4 seconds RetCode: 0 Status: OK