Package: GEOmetadb Version: 1.69.2 Command: E:\biocbuild\bbs-3.21-bioc\R\bin\R.exe CMD INSTALL GEOmetadb StartedAt: 2025-02-04 15:31:41 -0500 (Tue, 04 Feb 2025) EndedAt: 2025-02-04 15:31:51 -0500 (Tue, 04 Feb 2025) EllapsedTime: 10.0 seconds RetCode: 0 Status: OK