Package: GEOquery Version: 2.75.0 Command: rm -rf GEOquery.buildbin-libdir && mkdir GEOquery.buildbin-libdir && /Users/biocbuild/BBS/utils/build-universal.sh GEOquery_2.75.0.tar.gz /Library/Frameworks/R.framework/Resources/bin/R GEOquery.buildbin-libdir StartedAt: 2025-02-09 22:15:54 -0500 (Sun, 09 Feb 2025) EndedAt: 2025-02-09 22:16:06 -0500 (Sun, 09 Feb 2025) EllapsedTime: 12.2 seconds RetCode: 0 Status: OK PackageFile: GEOquery_2.75.0.tgz PackageFileSize: 13.37 MiB