Package: GEOquery Version: 2.75.0 Command: /Library/Frameworks/R.framework/Resources/bin/R CMD check --install=check:GEOquery.install-out.txt --library=/Library/Frameworks/R.framework/Resources/library --no-vignettes --timings GEOquery_2.75.0.tar.gz StartedAt: 2025-02-09 19:25:50 -0500 (Sun, 09 Feb 2025) EndedAt: 2025-02-09 19:28:31 -0500 (Sun, 09 Feb 2025) EllapsedTime: 160.8 seconds RetCode: 0 Status: OK CheckDir: GEOquery.Rcheck Warnings: 0