Package: GEOquery Version: 2.75.0 Command: /home/biocbuild/R/R/bin/R CMD build --keep-empty-dirs --no-resave-data GEOquery StartedAt: 2025-01-28 23:10:07 -0000 (Tue, 28 Jan 2025) EndedAt: 2025-01-28 23:12:01 -0000 (Tue, 28 Jan 2025) EllapsedTime: 114.0 seconds RetCode: 0 Status: OK PackageFile: GEOquery_2.75.0.tar.gz PackageFileSize: 13.1 MiB