Package: GEOquery Version: 2.75.0 Command: /home/biocbuild/R/R/bin/R CMD INSTALL GEOquery StartedAt: 2025-01-29 19:39:21 -0000 (Wed, 29 Jan 2025) EndedAt: 2025-01-29 19:39:56 -0000 (Wed, 29 Jan 2025) EllapsedTime: 34.7 seconds RetCode: 0 Status: OK