Package: GEOquery Version: 2.75.0 Command: /home/biocbuild/bbs-3.21-bioc/R/bin/R CMD build --keep-empty-dirs --no-resave-data GEOquery StartedAt: 2025-02-09 17:24:23 -0500 (Sun, 09 Feb 2025) EndedAt: 2025-02-09 17:25:18 -0500 (Sun, 09 Feb 2025) EllapsedTime: 55.1 seconds RetCode: 0 Status: OK PackageFile: GEOquery_2.75.0.tar.gz PackageFileSize: 13.07 MiB