Package: GEOquery Version: 2.75.0 Command: /home/biocbuild/bbs-3.21-bioc/R/bin/R CMD check --install=check:GEOquery.install-out.txt --library=/home/biocbuild/bbs-3.21-bioc/R/site-library --timings GEOquery_2.75.0.tar.gz StartedAt: 2025-02-09 22:42:45 -0500 (Sun, 09 Feb 2025) EndedAt: 2025-02-09 22:48:09 -0500 (Sun, 09 Feb 2025) EllapsedTime: 323.6 seconds RetCode: 0 Status: OK CheckDir: GEOquery.Rcheck Warnings: 0