Package: GEOquery Version: 2.75.0 Command: /home/biocbuild/bbs-3.21-bioc/R/bin/R CMD INSTALL GEOquery StartedAt: 2025-02-09 15:32:27 -0500 (Sun, 09 Feb 2025) EndedAt: 2025-02-09 15:32:53 -0500 (Sun, 09 Feb 2025) EllapsedTime: 25.9 seconds RetCode: 0 Status: OK