Package: GEOquery Version: 2.75.0 Command: rm -rf GEOquery.buildbin-libdir && mkdir GEOquery.buildbin-libdir && E:\biocbuild\bbs-3.21-bioc\R\bin\R.exe CMD INSTALL --build --library=GEOquery.buildbin-libdir GEOquery_2.75.0.tar.gz StartedAt: 2025-02-10 07:50:29 -0500 (Mon, 10 Feb 2025) EndedAt: 2025-02-10 07:51:16 -0500 (Mon, 10 Feb 2025) EllapsedTime: 46.8 seconds RetCode: 0 Status: OK PackageFile: GEOquery_2.75.0.zip PackageFileSize: 13.36 MiB