Package: GEOquery Version: 2.75.0 Command: E:\biocbuild\bbs-3.21-bioc\R\bin\R.exe CMD check --no-multiarch --install=check:GEOquery.install-out.txt --library=E:\biocbuild\bbs-3.21-bioc\R\library --no-vignettes --timings GEOquery_2.75.0.tar.gz StartedAt: 2025-02-10 01:31:14 -0500 (Mon, 10 Feb 2025) EndedAt: 2025-02-10 01:37:46 -0500 (Mon, 10 Feb 2025) EllapsedTime: 392.1 seconds RetCode: 0 Status: OK CheckDir: GEOquery.Rcheck Warnings: 0