Package: GEOquery Version: 2.75.0 Command: E:\biocbuild\bbs-3.21-bioc\R\bin\R.exe CMD INSTALL GEOquery StartedAt: 2025-02-09 16:06:15 -0500 (Sun, 09 Feb 2025) EndedAt: 2025-02-09 16:06:56 -0500 (Sun, 09 Feb 2025) EllapsedTime: 41.1 seconds RetCode: 0 Status: OK