Package: GEOsubmission Version: 1.59.0 Command: /Library/Frameworks/R.framework/Resources/bin/R CMD check --install=check:GEOsubmission.install-out.txt --library=/Library/Frameworks/R.framework/Resources/library --no-vignettes --timings GEOsubmission_1.59.0.tar.gz StartedAt: 2025-02-04 20:45:15 -0500 (Tue, 04 Feb 2025) EndedAt: 2025-02-04 20:45:50 -0500 (Tue, 04 Feb 2025) EllapsedTime: 35.3 seconds RetCode: 0 Status: OK CheckDir: GEOsubmission.Rcheck Warnings: 0