Package: GEOsubmission Version: 1.59.0 Command: /Library/Frameworks/R.framework/Resources/bin/R CMD INSTALL GEOsubmission StartedAt: 2025-02-04 15:05:55 -0500 (Tue, 04 Feb 2025) EndedAt: 2025-02-04 15:06:28 -0500 (Tue, 04 Feb 2025) EllapsedTime: 33.0 seconds RetCode: 0 Status: OK