Package: GEOsubmission Version: 1.59.0 Command: E:\biocbuild\bbs-3.21-bioc\R\bin\R.exe CMD check --no-multiarch --install=check:GEOsubmission.install-out.txt --library=E:\biocbuild\bbs-3.21-bioc\R\library --no-vignettes --timings GEOsubmission_1.59.0.tar.gz StartedAt: 2025-02-10 01:31:19 -0500 (Mon, 10 Feb 2025) EndedAt: 2025-02-10 01:31:57 -0500 (Mon, 10 Feb 2025) EllapsedTime: 37.9 seconds RetCode: 0 Status: OK CheckDir: GEOsubmission.Rcheck Warnings: 0