Package: GGPA Version: 1.19.0 Command: /home/biocbuild/R/R/bin/R CMD build --keep-empty-dirs --no-resave-data GGPA StartedAt: 2025-01-28 23:12:46 -0000 (Tue, 28 Jan 2025) EndedAt: 2025-01-28 23:14:30 -0000 (Tue, 28 Jan 2025) EllapsedTime: 104.0 seconds RetCode: 0 Status: OK PackageFile: GGPA_1.19.0.tar.gz PackageFileSize: 4.711 MiB