Package: GGPA Version: 1.19.0 Command: /Library/Frameworks/R.framework/Resources/bin/R CMD build --keep-empty-dirs --no-resave-data GGPA StartedAt: 2025-02-09 16:55:01 -0500 (Sun, 09 Feb 2025) EndedAt: 2025-02-09 16:56:15 -0500 (Sun, 09 Feb 2025) EllapsedTime: 73.3 seconds RetCode: 0 Status: OK PackageFile: GGPA_1.19.0.tar.gz PackageFileSize: 4.711 MiB