Package: GGPA Version: 1.19.0 Command: /home/biocbuild/bbs-3.21-bioc/R/bin/R CMD build --keep-empty-dirs --no-resave-data GGPA StartedAt: 2025-02-09 17:25:40 -0500 (Sun, 09 Feb 2025) EndedAt: 2025-02-09 17:26:46 -0500 (Sun, 09 Feb 2025) EllapsedTime: 66.1 seconds RetCode: 0 Status: OK PackageFile: GGPA_1.19.0.tar.gz PackageFileSize: 4.712 MiB