Package: GGPA Version: 1.19.0 Command: /home/biocbuild/bbs-3.21-bioc/R/bin/R CMD check --install=check:GGPA.install-out.txt --library=/home/biocbuild/bbs-3.21-bioc/R/site-library --timings GGPA_1.19.0.tar.gz StartedAt: 2025-02-09 22:45:12 -0500 (Sun, 09 Feb 2025) EndedAt: 2025-02-09 22:48:37 -0500 (Sun, 09 Feb 2025) EllapsedTime: 204.4 seconds RetCode: 0 Status: OK CheckDir: GGPA.Rcheck Warnings: 0