Package: GGPA Version: 1.19.0 Command: /home/biocbuild/bbs-3.21-bioc/R/bin/R CMD INSTALL GGPA StartedAt: 2025-02-09 15:10:14 -0500 (Sun, 09 Feb 2025) EndedAt: 2025-02-09 15:10:50 -0500 (Sun, 09 Feb 2025) EllapsedTime: 36.0 seconds RetCode: 0 Status: OK