Package: GGPA Version: 1.19.0 Command: rm -rf GGPA.buildbin-libdir && mkdir GGPA.buildbin-libdir && E:\biocbuild\bbs-3.21-bioc\R\bin\R.exe CMD INSTALL --build --library=GGPA.buildbin-libdir GGPA_1.19.0.tar.gz StartedAt: 2025-02-13 08:02:00 -0500 (Thu, 13 Feb 2025) EndedAt: 2025-02-13 08:02:55 -0500 (Thu, 13 Feb 2025) EllapsedTime: 54.8 seconds RetCode: 0 Status: OK PackageFile: GGPA_1.19.0.zip PackageFileSize: 3.062 MiB