Package: GIGSEA Version: 1.25.0 Command: /Library/Frameworks/R.framework/Resources/bin/R CMD check --install=check:GIGSEA.install-out.txt --library=/Library/Frameworks/R.framework/Resources/library --no-vignettes --timings GIGSEA_1.25.0.tar.gz StartedAt: 2025-02-09 19:28:23 -0500 (Sun, 09 Feb 2025) EndedAt: 2025-02-09 19:28:55 -0500 (Sun, 09 Feb 2025) EllapsedTime: 32.4 seconds RetCode: 0 Status: OK CheckDir: GIGSEA.Rcheck Warnings: 0