Package: GIGSEA Version: 1.25.0 Command: /Library/Frameworks/R.framework/Resources/bin/R CMD INSTALL GIGSEA StartedAt: 2025-02-09 15:01:12 -0500 (Sun, 09 Feb 2025) EndedAt: 2025-02-09 15:01:17 -0500 (Sun, 09 Feb 2025) EllapsedTime: 4.4 seconds RetCode: 0 Status: OK