Package: GIGSEA Version: 1.25.0 Command: /Library/Frameworks/R.framework/Resources/bin/R CMD build --keep-empty-dirs --no-resave-data GIGSEA StartedAt: 2025-02-09 16:55:34 -0500 (Sun, 09 Feb 2025) EndedAt: 2025-02-09 16:59:52 -0500 (Sun, 09 Feb 2025) EllapsedTime: 258.0 seconds RetCode: 0 Status: OK PackageFile: GIGSEA_1.25.0.tar.gz PackageFileSize: 1.326 MiB