Package: GIGSEA Version: 1.25.0 Command: /Library/Frameworks/R.framework/Resources/bin/R CMD check --install=check:GIGSEA.install-out.txt --library=/Library/Frameworks/R.framework/Resources/library --no-vignettes --timings GIGSEA_1.25.0.tar.gz StartedAt: 2025-02-09 21:03:26 -0500 (Sun, 09 Feb 2025) EndedAt: 2025-02-09 21:05:01 -0500 (Sun, 09 Feb 2025) EllapsedTime: 94.7 seconds RetCode: 0 Status: OK CheckDir: GIGSEA.Rcheck Warnings: 0