Package: GIGSEA Version: 1.25.0 Command: /home/biocbuild/bbs-3.21-bioc/R/bin/R CMD build --keep-empty-dirs --no-resave-data GIGSEA StartedAt: 2025-02-09 17:26:26 -0500 (Sun, 09 Feb 2025) EndedAt: 2025-02-09 17:30:03 -0500 (Sun, 09 Feb 2025) EllapsedTime: 217.2 seconds RetCode: 0 Status: OK PackageFile: GIGSEA_1.25.0.tar.gz PackageFileSize: 1.325 MiB