Package: GIGSEA Version: 1.25.0 Command: rm -rf GIGSEA.buildbin-libdir && mkdir GIGSEA.buildbin-libdir && E:\biocbuild\bbs-3.21-bioc\R\bin\R.exe CMD INSTALL --build --library=GIGSEA.buildbin-libdir GIGSEA_1.25.0.tar.gz StartedAt: 2025-02-10 07:51:34 -0500 (Mon, 10 Feb 2025) EndedAt: 2025-02-10 07:51:52 -0500 (Mon, 10 Feb 2025) EllapsedTime: 18.2 seconds RetCode: 0 Status: OK PackageFile: GIGSEA_1.25.0.zip PackageFileSize: 1.73 MiB