Package: GIGSEA Version: 1.25.0 Command: chmod a+r GIGSEA -R && E:\biocbuild\bbs-3.21-bioc\R\bin\R.exe CMD build --keep-empty-dirs --no-resave-data GIGSEA StartedAt: 2025-02-09 18:59:45 -0500 (Sun, 09 Feb 2025) EndedAt: 2025-02-09 19:04:03 -0500 (Sun, 09 Feb 2025) EllapsedTime: 257.9 seconds RetCode: 0 Status: OK PackageFile: GIGSEA_1.25.0.tar.gz PackageFileSize: 1.327 MiB