Package: GMRP Version: 1.35.0 Command: /home/biocbuild/R/R/bin/R CMD build --keep-empty-dirs --no-resave-data GMRP StartedAt: 2025-01-28 23:17:20 -0000 (Tue, 28 Jan 2025) EndedAt: 2025-01-28 23:17:43 -0000 (Tue, 28 Jan 2025) EllapsedTime: 23.0 seconds RetCode: 0 Status: OK PackageFile: GMRP_1.35.0.tar.gz PackageFileSize: 887.8 KiB