Package: GMRP Version: 1.35.0 Command: /Library/Frameworks/R.framework/Resources/bin/R CMD check --install=check:GMRP.install-out.txt --library=/Library/Frameworks/R.framework/Resources/library --no-vignettes --timings GMRP_1.35.0.tar.gz StartedAt: 2025-02-12 20:52:39 -0500 (Wed, 12 Feb 2025) EndedAt: 2025-02-12 20:54:03 -0500 (Wed, 12 Feb 2025) EllapsedTime: 84.0 seconds RetCode: 0 Status: OK CheckDir: GMRP.Rcheck Warnings: 0