Package: GNOSIS Version: 1.5.0 Command: /Library/Frameworks/R.framework/Resources/bin/R CMD check --install=check:GNOSIS.install-out.txt --library=/Library/Frameworks/R.framework/Resources/library --no-vignettes --timings GNOSIS_1.5.0.tar.gz StartedAt: 2025-02-12 19:34:00 -0500 (Wed, 12 Feb 2025) EndedAt: 2025-02-12 19:36:20 -0500 (Wed, 12 Feb 2025) EllapsedTime: 139.6 seconds RetCode: 0 Status: WARNINGS CheckDir: GNOSIS.Rcheck Warnings: 1