Package: GNOSIS Version: 1.5.0 Command: /Library/Frameworks/R.framework/Resources/bin/R CMD INSTALL GNOSIS StartedAt: 2025-02-12 15:42:40 -0500 (Wed, 12 Feb 2025) EndedAt: 2025-02-12 15:44:04 -0500 (Wed, 12 Feb 2025) EllapsedTime: 83.7 seconds RetCode: 0 Status: OK