Package: GNOSIS Version: 1.5.0 Command: /home/biocbuild/bbs-3.21-bioc/R/bin/R CMD INSTALL GNOSIS StartedAt: 2025-02-12 15:43:48 -0500 (Wed, 12 Feb 2025) EndedAt: 2025-02-12 15:44:49 -0500 (Wed, 12 Feb 2025) EllapsedTime: 61.0 seconds RetCode: 0 Status: OK