Package: GNOSIS Version: 1.5.0 Command: chmod a+r GNOSIS -R && E:\biocbuild\bbs-3.21-bioc\R\bin\R.exe CMD build --keep-empty-dirs --no-resave-data GNOSIS StartedAt: 2025-02-09 19:01:40 -0500 (Sun, 09 Feb 2025) EndedAt: 2025-02-09 19:03:26 -0500 (Sun, 09 Feb 2025) EllapsedTime: 105.3 seconds RetCode: 0 Status: OK PackageFile: GNOSIS_1.5.0.tar.gz PackageFileSize: 3.374 MiB