Package: GNOSIS Version: 1.5.0 Command: E:\biocbuild\bbs-3.21-bioc\R\bin\R.exe CMD check --no-multiarch --install=check:GNOSIS.install-out.txt --library=E:\biocbuild\bbs-3.21-bioc\R\library --no-vignettes --timings GNOSIS_1.5.0.tar.gz StartedAt: 2025-02-13 01:49:43 -0500 (Thu, 13 Feb 2025) EndedAt: 2025-02-13 01:57:11 -0500 (Thu, 13 Feb 2025) EllapsedTime: 447.9 seconds RetCode: 0 Status: WARNINGS CheckDir: GNOSIS.Rcheck Warnings: 1