Package: GOSemSim Version: 2.33.0 Command: /Library/Frameworks/R.framework/Resources/bin/R CMD build --keep-empty-dirs --no-resave-data GOSemSim StartedAt: 2025-02-09 16:30:46 -0500 (Sun, 09 Feb 2025) EndedAt: 2025-02-09 16:30:55 -0500 (Sun, 09 Feb 2025) EllapsedTime: 9.1 seconds RetCode: 0 Status: OK PackageFile: GOSemSim_2.33.0.tar.gz PackageFileSize: 594.7 KiB