Package: GOSemSim Version: 2.33.0 Command: /Library/Frameworks/R.framework/Resources/bin/R CMD check --install=check:GOSemSim.install-out.txt --library=/Library/Frameworks/R.framework/Resources/library --no-vignettes --timings GOSemSim_2.33.0.tar.gz StartedAt: 2025-02-09 19:30:41 -0500 (Sun, 09 Feb 2025) EndedAt: 2025-02-09 19:31:40 -0500 (Sun, 09 Feb 2025) EllapsedTime: 58.6 seconds RetCode: 0 Status: OK CheckDir: GOSemSim.Rcheck Warnings: 0