Package: GOSemSim Version: 2.33.0 Command: /home/biocbuild/R/R/bin/R CMD INSTALL GOSemSim StartedAt: 2025-01-29 19:58:33 -0000 (Wed, 29 Jan 2025) EndedAt: 2025-01-29 19:59:07 -0000 (Wed, 29 Jan 2025) EllapsedTime: 34.5 seconds RetCode: 0 Status: OK